BEGIN:VCALENDAR
VERSION:2.0
PRODID:SchoolNow
CALSCALE:GREGORIAN
BEGIN:VEVENT
UID:be0725ea-8d9b-11f0-a98b-0affc13de9ab
DTSTAMP:20251121T133510Z
SUMMARY:Running Club
URL;VALUE=URI:https://www.sau10.nh.gov/schools/wrb/calendar/8601462/running
 -club
DTSTART:20250922T180000Z
DTEND:20250922T190000Z
END:VEVENT
END:VCALENDAR
