BEGIN:VCALENDAR
VERSION:2.0
PRODID:SchoolNow
CALSCALE:GREGORIAN
BEGIN:VEVENT
UID:be0726f8-8d9b-11f0-8f65-0affc13de9ab
DTSTAMP:20251121T133510Z
SUMMARY:Running Club
URL;VALUE=URI:https://www.sau10.nh.gov/schools/wrb/calendar/8601463/running
 -club
DTSTART:20250929T180000Z
DTEND:20250929T190000Z
END:VEVENT
END:VCALENDAR
