BEGIN:VCALENDAR
VERSION:2.0
PRODID:SchoolNow
CALSCALE:GREGORIAN
BEGIN:VEVENT
UID:be072b76-8d9b-11f0-a7ae-0affc13de9ab
DTSTAMP:20251121T133510Z
SUMMARY:Running Club
URL;VALUE=URI:https://www.sau10.nh.gov/schools/wrb/calendar/8601464/running
 -club
DTSTART:20251006T180000Z
DTEND:20251006T190000Z
END:VEVENT
END:VCALENDAR
