BEGIN:VCALENDAR
VERSION:2.0
PRODID:SchoolNow
CALSCALE:GREGORIAN
BEGIN:VEVENT
UID:be072d2e-8d9b-11f0-9a8f-0affc13de9ab
DTSTAMP:20251121T133510Z
SUMMARY:Running Club
URL;VALUE=URI:https://www.sau10.nh.gov/schools/wrb/calendar/8601465/running
 -club
DTSTART:20251027T180000Z
DTEND:20251027T190000Z
END:VEVENT
END:VCALENDAR
