BEGIN:VCALENDAR
VERSION:2.0
PRODID:SchoolNow
CALSCALE:GREGORIAN
BEGIN:VEVENT
UID:be072e6e-8d9b-11f0-977e-0affc13de9ab
DTSTAMP:20251121T133510Z
SUMMARY:Running Club
URL;VALUE=URI:https://www.sau10.nh.gov/schools/wrb/calendar/8601466/running
 -club
DTSTART:20251020T180000Z
DTEND:20251020T190000Z
END:VEVENT
END:VCALENDAR
