BEGIN:VCALENDAR
VERSION:2.0
PRODID:SchoolNow
CALSCALE:GREGORIAN
BEGIN:VEVENT
UID:7fb558d8-91ca-11f0-9949-0a58a9feac02
DTSTAMP:20251121T133510Z
SUMMARY:D&D Club
URL;VALUE=URI:https://www.sau10.nh.gov/schools/wrb/calendar/8622685/d-d-clu
 b
DTSTART:20251020T180000Z
DTEND:20251020T190000Z
END:VEVENT
END:VCALENDAR
