BEGIN:VCALENDAR
VERSION:2.0
PRODID:SchoolNow
CALSCALE:GREGORIAN
BEGIN:VEVENT
UID:7fb55b3a-91ca-11f0-aee3-0a58a9feac02
DTSTAMP:20251121T133510Z
SUMMARY:D&D Club
URL;VALUE=URI:https://www.sau10.nh.gov/schools/wrb/calendar/8622687/d-d-clu
 b
DTSTART:20251103T190000Z
DTEND:20251103T200000Z
END:VEVENT
END:VCALENDAR
