BEGIN:VCALENDAR
VERSION:2.0
PRODID:SchoolNow
CALSCALE:GREGORIAN
BEGIN:VEVENT
UID:7fb55d24-91ca-11f0-9dfd-0a58a9feac02
DTSTAMP:20251121T133510Z
SUMMARY:D&D Club
URL;VALUE=URI:https://www.sau10.nh.gov/schools/wrb/calendar/8622689/d-d-clu
 b
DTSTART:20251124T190000Z
DTEND:20251124T200000Z
END:VEVENT
END:VCALENDAR
