BEGIN:VCALENDAR
VERSION:2.0
PRODID:SchoolNow
CALSCALE:GREGORIAN
BEGIN:VEVENT
UID:7fb561ac-91ca-11f0-b600-0a58a9feac02
DTSTAMP:20251121T133510Z
SUMMARY:D&D Club
URL;VALUE=URI:https://www.sau10.nh.gov/schools/wrb/calendar/8622694/d-d-clu
 b
DTSTART:20260112T190000Z
DTEND:20260112T200000Z
END:VEVENT
END:VCALENDAR
