BEGIN:VCALENDAR
VERSION:2.0
PRODID:SchoolNow
CALSCALE:GREGORIAN
BEGIN:VEVENT
UID:7fb56292-91ca-11f0-a9a2-0a58a9feac02
DTSTAMP:20251121T133510Z
SUMMARY:D&D Club
URL;VALUE=URI:https://www.sau10.nh.gov/schools/wrb/calendar/8622695/d-d-clu
 b
DTSTART:20260126T190000Z
DTEND:20260126T200000Z
END:VEVENT
END:VCALENDAR
