BEGIN:VCALENDAR
VERSION:2.0
PRODID:SchoolNow
CALSCALE:GREGORIAN
BEGIN:VEVENT
UID:7fb5653a-91ca-11f0-8c3c-0a58a9feac02
DTSTAMP:20251121T133510Z
SUMMARY:D&D Club
URL;VALUE=URI:https://www.sau10.nh.gov/schools/wrb/calendar/8622698/d-d-clu
 b
DTSTART:20260302T190000Z
DTEND:20260302T200000Z
END:VEVENT
END:VCALENDAR
