BEGIN:VCALENDAR
VERSION:2.0
PRODID:SchoolNow
CALSCALE:GREGORIAN
BEGIN:VEVENT
UID:7fb567e2-91ca-11f0-be77-0a58a9feac02
DTSTAMP:20251121T133510Z
SUMMARY:D&D Club
URL;VALUE=URI:https://www.sau10.nh.gov/schools/wrb/calendar/8622701/d-d-clu
 b
DTSTART:20260323T180000Z
DTEND:20260323T190000Z
END:VEVENT
END:VCALENDAR
