BEGIN:VCALENDAR
VERSION:2.0
PRODID:SchoolNow
CALSCALE:GREGORIAN
BEGIN:VEVENT
UID:7fb56a8a-91ca-11f0-b2ee-0a58a9feac02
DTSTAMP:20251121T133510Z
SUMMARY:D&D Club
URL;VALUE=URI:https://www.sau10.nh.gov/schools/wrb/calendar/8622704/d-d-clu
 b
DTSTART:20260413T180000Z
DTEND:20260413T190000Z
END:VEVENT
END:VCALENDAR
