BEGIN:VCALENDAR
VERSION:2.0
PRODID:SchoolNow
CALSCALE:GREGORIAN
BEGIN:VEVENT
UID:8025ad02-932f-11f0-9c30-0eccc5324bdf
DTSTAMP:20251121T133510Z
SUMMARY:Poetry Club
URL;VALUE=URI:https://www.sau10.nh.gov/schools/wrb/calendar/8630014/poetry-
 club
DTSTART:20251001T180000Z
DTEND:20251001T190000Z
END:VEVENT
END:VCALENDAR
