BEGIN:VCALENDAR
VERSION:2.0
PRODID:SchoolNow
CALSCALE:GREGORIAN
BEGIN:VEVENT
UID:8025b162-932f-11f0-89ce-0eccc5324bdf
DTSTAMP:20251121T133510Z
SUMMARY:Poetry Club
URL;VALUE=URI:https://www.sau10.nh.gov/schools/wrb/calendar/8630016/poetry-
 club
DTSTART:20251015T180000Z
DTEND:20251015T190000Z
END:VEVENT
END:VCALENDAR
