BEGIN:VCALENDAR
VERSION:2.0
PRODID:SchoolNow
CALSCALE:GREGORIAN
BEGIN:VEVENT
UID:8025b6b2-932f-11f0-883b-0eccc5324bdf
DTSTAMP:20251121T133510Z
SUMMARY:Balloon Flight Club
URL;VALUE=URI:https://www.sau10.nh.gov/schools/wrb/calendar/8630021/balloon
 -flight-club
DTSTART:20251002T180000Z
DTEND:20251002T190000Z
END:VEVENT
END:VCALENDAR
