BEGIN:VCALENDAR
VERSION:2.0
PRODID:SchoolNow
CALSCALE:GREGORIAN
BEGIN:VEVENT
UID:8025b8c4-932f-11f0-aa09-0eccc5324bdf
DTSTAMP:20251121T133510Z
SUMMARY:Balloon Flight Club
URL;VALUE=URI:https://www.sau10.nh.gov/schools/wrb/calendar/8630023/balloon
 -flight-club
DTSTART:20251016T180000Z
DTEND:20251016T190000Z
END:VEVENT
END:VCALENDAR
