BEGIN:VCALENDAR
VERSION:2.0
PRODID:SchoolNow
CALSCALE:GREGORIAN
BEGIN:VEVENT
UID:3e92406e-97c4-11f0-a723-0afffb2ad397
DTSTAMP:20251121T133510Z
SUMMARY:Authors Club
URL;VALUE=URI:https://www.sau10.nh.gov/schools/wrb/calendar/8652792/authors
 -club
DTSTART:20251008T180000Z
DTEND:20251008T190000Z
END:VEVENT
END:VCALENDAR
