BEGIN:VCALENDAR
VERSION:2.0
PRODID:SchoolNow
CALSCALE:GREGORIAN
BEGIN:VEVENT
UID:3e924686-97c4-11f0-93b0-0afffb2ad397
DTSTAMP:20251121T133510Z
SUMMARY:Cancelled:  Authors Club
URL;VALUE=URI:https://www.sau10.nh.gov/schools/wrb/calendar/8652795/cancell
 ed-authors-club
DTSTART:20251105T190000Z
DTEND:20251105T200000Z
END:VEVENT
END:VCALENDAR
