BEGIN:VCALENDAR
VERSION:2.0
PRODID:SchoolNow
CALSCALE:GREGORIAN
BEGIN:VEVENT
UID:3e924b5e-97c4-11f0-b03a-0afffb2ad397
DTSTAMP:20251121T133510Z
SUMMARY:Authors Club
URL;VALUE=URI:https://www.sau10.nh.gov/schools/wrb/calendar/8652800/authors
 -club
DTSTART:20260107T190000Z
DTEND:20260107T200000Z
END:VEVENT
END:VCALENDAR
