BEGIN:VCALENDAR
VERSION:2.0
PRODID:SchoolNow
CALSCALE:GREGORIAN
BEGIN:VEVENT
UID:3e924e38-97c4-11f0-88bf-0afffb2ad397
DTSTAMP:20251121T133510Z
SUMMARY:Authors Club
URL;VALUE=URI:https://www.sau10.nh.gov/schools/wrb/calendar/8652803/authors
 -club
DTSTART:20260128T190000Z
DTEND:20260128T200000Z
END:VEVENT
END:VCALENDAR
