BEGIN:VCALENDAR
VERSION:2.0
PRODID:SchoolNow
CALSCALE:GREGORIAN
BEGIN:VEVENT
UID:3e9252ca-97c4-11f0-8ba8-0afffb2ad397
DTSTAMP:20251121T133510Z
SUMMARY:Authors Club
URL;VALUE=URI:https://www.sau10.nh.gov/schools/wrb/calendar/8652807/authors
 -club
DTSTART:20260304T190000Z
DTEND:20260304T200000Z
END:VEVENT
END:VCALENDAR
