BEGIN:VCALENDAR
VERSION:2.0
PRODID:SchoolNow
CALSCALE:GREGORIAN
BEGIN:VEVENT
UID:3e925752-97c4-11f0-85c2-0afffb2ad397
DTSTAMP:20251121T133510Z
SUMMARY:Authors Club
URL;VALUE=URI:https://www.sau10.nh.gov/schools/wrb/calendar/8652812/authors
 -club
DTSTART:20260408T180000Z
DTEND:20260408T190000Z
END:VEVENT
END:VCALENDAR
