BEGIN:VCALENDAR
VERSION:2.0
PRODID:SchoolNow
CALSCALE:GREGORIAN
BEGIN:VEVENT
UID:3e925842-97c4-11f0-b1ca-0afffb2ad397
DTSTAMP:20251121T133510Z
SUMMARY:Authors Club
URL;VALUE=URI:https://www.sau10.nh.gov/schools/wrb/calendar/8652813/authors
 -club
DTSTART:20260415T180000Z
DTEND:20260415T190000Z
END:VEVENT
END:VCALENDAR
