BEGIN:VCALENDAR
VERSION:2.0
PRODID:SchoolNow
CALSCALE:GREGORIAN
BEGIN:VEVENT
UID:1ac17036-9a28-11f0-8a42-027127f0a491
DTSTAMP:20251121T133510Z
SUMMARY:Chess Club
URL;VALUE=URI:https://www.sau10.nh.gov/schools/wrb/calendar/8663698/chess-c
 lub
DTSTART:20251008T180000Z
DTEND:20251008T190000Z
END:VEVENT
END:VCALENDAR
