BEGIN:VCALENDAR
VERSION:2.0
PRODID:SchoolNow
CALSCALE:GREGORIAN
BEGIN:VEVENT
UID:08d99196-9b27-11f0-a636-0a58a9feac02
DTSTAMP:20251121T133510Z
SUMMARY:Garden Club
URL;VALUE=URI:https://www.sau10.nh.gov/schools/wrb/calendar/8669044/garden-
 club
DTSTART:20251023T180000Z
DTEND:20251023T190000Z
END:VEVENT
END:VCALENDAR
