BEGIN:VCALENDAR
VERSION:2.0
PRODID:SchoolNow
CALSCALE:GREGORIAN
BEGIN:VEVENT
UID:08d992c2-9b27-11f0-bc90-0a58a9feac02
DTSTAMP:20251121T133510Z
SUMMARY:Garden Club
URL;VALUE=URI:https://www.sau10.nh.gov/schools/wrb/calendar/8669045/garden-
 club
DTSTART:20251113T190000Z
DTEND:20251113T200000Z
END:VEVENT
END:VCALENDAR
