BEGIN:VCALENDAR
VERSION:2.0
PRODID:SchoolNow
CALSCALE:GREGORIAN
BEGIN:VEVENT
UID:08d995ba-9b27-11f0-9bfe-0a58a9feac02
DTSTAMP:20251121T133509Z
SUMMARY:Garden Club
URL;VALUE=URI:https://www.sau10.nh.gov/schools/wrb/calendar/8669048/garden-
 club
DTSTART:20260129T190000Z
DTEND:20260129T200000Z
END:VEVENT
END:VCALENDAR
