BEGIN:VCALENDAR
VERSION:2.0
PRODID:SchoolNow
CALSCALE:GREGORIAN
BEGIN:VEVENT
UID:08d9979a-9b27-11f0-bb56-0a58a9feac02
DTSTAMP:20251121T133509Z
SUMMARY:Garden Club
URL;VALUE=URI:https://www.sau10.nh.gov/schools/wrb/calendar/8669050/garden-
 club
DTSTART:20260212T190000Z
DTEND:20260212T200000Z
END:VEVENT
END:VCALENDAR
