BEGIN:VCALENDAR
VERSION:2.0
PRODID:SchoolNow
CALSCALE:GREGORIAN
BEGIN:VEVENT
UID:08d99998-9b27-11f0-8390-0a58a9feac02
DTSTAMP:20251121T133509Z
SUMMARY:Garden Club
URL;VALUE=URI:https://www.sau10.nh.gov/schools/wrb/calendar/8669052/garden-
 club
DTSTART:20260316T180000Z
DTEND:20260316T190000Z
END:VEVENT
END:VCALENDAR
