BEGIN:VCALENDAR
VERSION:2.0
PRODID:SchoolNow
CALSCALE:GREGORIAN
BEGIN:VEVENT
UID:08d99a74-9b27-11f0-828c-0a58a9feac02
DTSTAMP:20251121T133509Z
SUMMARY:Garden Club
URL;VALUE=URI:https://www.sau10.nh.gov/schools/wrb/calendar/8669053/garden-
 club
DTSTART:20260330T180000Z
DTEND:20260330T190000Z
END:VEVENT
END:VCALENDAR
