BEGIN:VCALENDAR
VERSION:2.0
PRODID:SchoolNow
CALSCALE:GREGORIAN
BEGIN:VEVENT
UID:092b9bf8-9b27-11f0-83cf-0a58a9feac02
DTSTAMP:20251121T133510Z
SUMMARY:Garden Club
URL;VALUE=URI:https://www.sau10.nh.gov/schools/wrb/calendar/8669059/garden-
 club
DTSTART:20260504T180000Z
DTEND:20260504T190000Z
END:VEVENT
END:VCALENDAR
