BEGIN:VCALENDAR
VERSION:2.0
PRODID:SchoolNow
CALSCALE:GREGORIAN
BEGIN:VEVENT
UID:092babac-9b27-11f0-a06a-0a58a9feac02
DTSTAMP:20251121T133510Z
SUMMARY:Gr. 5 Intramural Volleyball
URL;VALUE=URI:https://www.sau10.nh.gov/schools/wrb/calendar/8669063/gr-5-in
 tramural-volleyball
DTSTART:20251117T190000Z
DTEND:20251117T200000Z
END:VEVENT
END:VCALENDAR
