BEGIN:VCALENDAR
VERSION:2.0
PRODID:SchoolNow
CALSCALE:GREGORIAN
BEGIN:VEVENT
UID:092bae9a-9b27-11f0-93d7-0a58a9feac02
DTSTAMP:20251121T133510Z
SUMMARY:Gr. 5 Volleyball
URL;VALUE=URI:https://www.sau10.nh.gov/schools/wrb/calendar/8669066/gr-5-vo
 lleyball
DTSTART:20251027T180000Z
DTEND:20251027T190000Z
END:VEVENT
END:VCALENDAR
