BEGIN:VCALENDAR
VERSION:2.0
PRODID:SchoolNow
CALSCALE:GREGORIAN
BEGIN:VEVENT
UID:092bb142-9b27-11f0-a3b2-0a58a9feac02
DTSTAMP:20251121T133510Z
SUMMARY:Gr. 6 Volleyball Intramurals
URL;VALUE=URI:https://www.sau10.nh.gov/schools/wrb/calendar/8669069/gr-6-vo
 lleyball-intramurals
DTSTART:20251009T180000Z
DTEND:20251009T190000Z
END:VEVENT
END:VCALENDAR
