BEGIN:VCALENDAR
VERSION:2.0
PRODID:SchoolNow
CALSCALE:GREGORIAN
BEGIN:VEVENT
UID:092bb67e-9b27-11f0-a5c0-0a58a9feac02
DTSTAMP:20251121T133510Z
SUMMARY:Gr. 6 Volleyball Intramurals
URL;VALUE=URI:https://www.sau10.nh.gov/schools/wrb/calendar/8669075/gr-6-vo
 lleyball-intramurals
DTSTART:20251120T190000Z
DTEND:20251120T200000Z
END:VEVENT
END:VCALENDAR
