BEGIN:VCALENDAR
VERSION:2.0
PRODID:SchoolNow
CALSCALE:GREGORIAN
BEGIN:VEVENT
UID:ea4bde12-9d8a-11f0-84ca-0a58a9feac02
DTSTAMP:20251121T133510Z
SUMMARY:Gr. 5 Intramural Volleyball
URL;VALUE=URI:https://www.sau10.nh.gov/schools/wrb/calendar/8678702/gr-5-in
 tramural-volleyball
DTSTART:20251001T180000Z
DTEND:20251001T190000Z
END:VEVENT
END:VCALENDAR
