BEGIN:VCALENDAR
VERSION:2.0
PRODID:SchoolNow
CALSCALE:GREGORIAN
BEGIN:VEVENT
UID:def5c434-9e56-11f0-a818-0affd9f01d33
DTSTAMP:20251121T133509Z
SUMMARY:Student Council
URL;VALUE=URI:https://www.sau10.nh.gov/schools/wrb/calendar/8682414/student
 -council
DTSTART:20251001T180000Z
DTEND:20251001T190000Z
END:VEVENT
END:VCALENDAR
