BEGIN:VCALENDAR
VERSION:2.0
PRODID:SchoolNow
CALSCALE:GREGORIAN
BEGIN:VEVENT
UID:df274108-9e56-11f0-b43b-0affd9f01d33
DTSTAMP:20251121T133510Z
SUMMARY:Student Council
URL;VALUE=URI:https://www.sau10.nh.gov/schools/wrb/calendar/8682417/student
 -council
DTSTART:20251119T190000Z
DTEND:20251119T200000Z
END:VEVENT
END:VCALENDAR
