BEGIN:VCALENDAR
VERSION:2.0
PRODID:SchoolNow
CALSCALE:GREGORIAN
BEGIN:VEVENT
UID:df27443c-9e56-11f0-8f24-0affd9f01d33
DTSTAMP:20251121T133510Z
SUMMARY:Student Council
URL;VALUE=URI:https://www.sau10.nh.gov/schools/wrb/calendar/8682420/student
 -council
DTSTART:20260121T190000Z
DTEND:20260121T200000Z
END:VEVENT
END:VCALENDAR
