BEGIN:VCALENDAR
VERSION:2.0
PRODID:SchoolNow
CALSCALE:GREGORIAN
BEGIN:VEVENT
UID:df274536-9e56-11f0-9543-0affd9f01d33
DTSTAMP:20251121T133509Z
SUMMARY:Student Council
URL;VALUE=URI:https://www.sau10.nh.gov/schools/wrb/calendar/8682421/student
 -council
DTSTART:20260204T190000Z
DTEND:20260204T200000Z
END:VEVENT
END:VCALENDAR
