BEGIN:VCALENDAR
VERSION:2.0
PRODID:SchoolNow
CALSCALE:GREGORIAN
BEGIN:VEVENT
UID:df27470c-9e56-11f0-a7d9-0affd9f01d33
DTSTAMP:20251121T133509Z
SUMMARY:Student Council
URL;VALUE=URI:https://www.sau10.nh.gov/schools/wrb/calendar/8682423/student
 -council
DTSTART:20260325T180000Z
DTEND:20260325T190000Z
END:VEVENT
END:VCALENDAR
