BEGIN:VCALENDAR
VERSION:2.0
PRODID:SchoolNow
CALSCALE:GREGORIAN
BEGIN:VEVENT
UID:df2748d8-9e56-11f0-88d2-0affd9f01d33
DTSTAMP:20251121T133510Z
SUMMARY:Student Council
URL;VALUE=URI:https://www.sau10.nh.gov/schools/wrb/calendar/8682424/student
 -council
DTSTART:20260408T180000Z
DTEND:20260408T190000Z
END:VEVENT
END:VCALENDAR
