BEGIN:VCALENDAR
VERSION:2.0
PRODID:SchoolNow
CALSCALE:GREGORIAN
BEGIN:VEVENT
UID:c696aeac-a087-11f0-a4c2-0a58a9feac02
DTSTAMP:20251121T133509Z
SUMMARY:Fiscal Advisory Meeting - Budget Presentation
URL;VALUE=URI:https://www.sau10.nh.gov/schools/wrb/calendar/8692217/fiscal-
 advisory-meeting-budget-presentation
DTSTART:20251021T223000Z
DTEND:20251022T010000Z
END:VEVENT
END:VCALENDAR
