BEGIN:VCALENDAR
VERSION:2.0
PRODID:SchoolNow
CALSCALE:GREGORIAN
BEGIN:VEVENT
UID:c696b1f4-a087-11f0-bbb4-0a58a9feac02
DTSTAMP:20251121T133509Z
SUMMARY:Fiscal Advisory Meeting - Budget Discussion
URL;VALUE=URI:https://www.sau10.nh.gov/schools/wrb/calendar/8692219/fiscal-
 advisory-meeting-budget-discussion
DTSTART:20251104T233000Z
DTEND:20251105T013000Z
END:VEVENT
END:VCALENDAR
