BEGIN:VCALENDAR
VERSION:2.0
PRODID:SchoolNow
CALSCALE:GREGORIAN
BEGIN:VEVENT
UID:c696b33e-a087-11f0-8490-0a58a9feac02
DTSTAMP:20251121T133509Z
SUMMARY:Fiscal Advisory Meeting - Public Hearing (Derry Municipal)
URL;VALUE=URI:https://www.sau10.nh.gov/schools/wrb/calendar/8692220/fiscal-
 advisory-meeting-public-hearing-derry-municipal
DTSTART:20260113T230000Z
DTEND:20260114T020000Z
END:VEVENT
END:VCALENDAR
