BEGIN:VCALENDAR
VERSION:2.0
PRODID:SchoolNow
CALSCALE:GREGORIAN
BEGIN:VEVENT
UID:c696b460-a087-11f0-8cbb-0a58a9feac02
DTSTAMP:20251121T133509Z
SUMMARY:Deliberative Session @ WRB
URL;VALUE=URI:https://www.sau10.nh.gov/schools/wrb/calendar/8692221/deliber
 ative-session-wrb
DTSTART:20260131T150000Z
DTEND:20260131T170000Z
END:VEVENT
END:VCALENDAR
