BEGIN:VCALENDAR
VERSION:2.0
PRODID:SchoolNow
CALSCALE:GREGORIAN
BEGIN:VEVENT
UID:c696b56e-a087-11f0-867b-0a58a9feac02
DTSTAMP:20251121T133510Z
SUMMARY:Voting @ Pinkerton Academy
URL;VALUE=URI:https://www.sau10.nh.gov/schools/wrb/calendar/8692222/voting-
 pinkerton-academy
DTSTART;VALUE=DATE:20260310
DTEND;VALUE=DATE:20260311
END:VEVENT
END:VCALENDAR
