BEGIN:VCALENDAR
VERSION:2.0
PRODID:SchoolNow
CALSCALE:GREGORIAN
BEGIN:VEVENT
UID:a0f62186-a3b7-11f0-81b2-0a58a9feac02
DTSTAMP:20251121T133509Z
SUMMARY:WRB Picture Retake Day
URL;VALUE=URI:https://www.sau10.nh.gov/schools/wrb/calendar/8703685/wrb-pic
 ture-retake-day
DTSTART;VALUE=DATE:20251106
DTEND;VALUE=DATE:20251107
END:VEVENT
END:VCALENDAR
