BEGIN:VCALENDAR
VERSION:2.0
PRODID:SchoolNow
CALSCALE:GREGORIAN
BEGIN:VEVENT
UID:8e01e59a-a51c-11f0-866d-0a58a9feac02
DTSTAMP:20251121T133510Z
SUMMARY:Yo Yo Club
URL;VALUE=URI:https://www.sau10.nh.gov/schools/wrb/calendar/8708838/yo-yo-c
 lub
DTSTART:20251016T180000Z
DTEND:20251016T190000Z
END:VEVENT
END:VCALENDAR
